BEGIN:VCALENDAR
VERSION:2.0
PRODID:-//wp-events-plugin.com//7.2.3.1//EN
BEGIN:VEVENT
UID:9@delphirise.org
DTSTART;TZID=America/New_York:20260924T173000
DTEND;TZID=America/New_York:20260924T193000
DTSTAMP:20260422T195808Z
URL:https://delphirise.org/events/a-night-to-rise-90th-celebration/
SUMMARY:A Night to Rise 90th Celebration
DESCRIPTION:[vc_row type="in_container" full_screen_row_position="middle" c
 olumn_margin="default" column_direction="default" column_direction_tablet=
 "default" column_direction_phone="default" scene_position="center" text_co
 lor="dark" text_align="left" row_border_radius="none" row_border_radius_ap
 plies="bg" overflow="visible" overlay_strength="0.3" gradient_direction="l
 eft_to_right" shape_divider_position="bottom" bg_image_animation="none"][v
 c_column column_padding="no-extra-padding" column_padding_tablet="inherit"
  column_padding_phone="inherit" column_padding_position="all" column_eleme
 nt_direction_desktop="default" column_element_spacing="default" desktop_te
 xt_alignment="default" tablet_text_alignment="default" phone_text_alignmen
 t="default" background_color_opacity="1" background_hover_color_opacity="1
 " column_backdrop_filter="none" column_shadow="none" column_border_radius=
 "none" column_link_target="_self" column_position="default" gradient_direc
 tion="left_to_right" overlay_strength="0.3" width="1/1" tablet_width_inher
 it="default" animation_type="default" bg_image_animation="none" border_typ
 e="simple" column_border_width="none" column_border_style="solid"][vc_colu
 mn_text css="" text_direction="default"]\nGET TICKETS\nJoin us for an even
 ing of inspiration\, connection\, and community as we honor 90 years of De
 lphi Rise and the powerful stories of resilience that have guided our miss
 ion since 1936. This special anniversary event will highlight the voices o
 f those who have risen through adversity\, the partners who walk alongside
  them\, and the collective strength that makes our work possible.\nGuests 
 will enjoy uplifting speakers\, a silent auction\, raffles\, and delicious
  refreshments—all in support of Delphi Rise’s life-changing services f
 or individuals and families facing substance use\, mental health challenge
 s\, housing instability\, and other complex needs.\nFor nine decades\, Del
 phi Rise has opened its doors and its heart to our community. As we step i
 nto the next 90 years\, we invite you to celebrate with us and help ensure
  that hope\, healing\, and support remain accessible to all.\nTogether\, w
 e rise.\n\nEvent Details\nDate: Thursday\, September 24th\, 2026Time: 5:30
  PM – 7:30 PMLocation: Arbor Loft\n21 Lawrence St.\, Rochester\, NYTicke
 ts: Includes heavy hors d'oeuvres\, cocktails\, mocktails\, and event entr
 y.\nHighlights:• Stories of hope• Inspirational artwork installations
 • Silent auction\nAll proceeds support Delphi Rise’s substance use pre
 vention\, recovery\, and support services.\nThank you to our Event Sponsor
 s!\nPresenting Sponsor:\n\nRise Together Sponsor:\n\nUplift Sponsors:\n\n\
 nGold Sponsors:\n\n\nSilver Sponsors: \n\n\n[/vc_column_text][/vc_column]
 [/vc_row]
ATTACH;FMTTYPE=image/jpeg:https://delphirise.org/wp-content/uploads/2026/0
 4/2026-AN2R-Postcard-3.png
LOCATION:Arbor Loft\, 21 Lawrence Street\, Rochester\, New York\, 
X-APPLE-STRUCTURED-LOCATION;VALUE=URI;X-ADDRESS=21 Lawrence Street\, Roches
 ter\, New York\, ;X-APPLE-RADIUS=100;X-TITLE=Arbor Loft:geo:0,0
END:VEVENT
BEGIN:VTIMEZONE
TZID:America/New_York
X-LIC-LOCATION:America/New_York
BEGIN:DAYLIGHT
DTSTART:20260308T030000
TZOFFSETFROM:-0500
TZOFFSETTO:-0400
TZNAME:EDT
END:DAYLIGHT
END:VTIMEZONE
END:VCALENDAR