BEGIN:VCALENDAR
VERSION:2.0
PRODID:-//wp-events-plugin.com//7.2.3.1//EN
BEGIN:VEVENT
UID:7@delphirise.org
DTSTART;TZID=America/New_York:20260628T133000
DTEND;TZID=America/New_York:20260628T183000
DTSTAMP:20260422T185844Z
URL:https://delphirise.org/events/5th-annual-tom-gordon-memorial-golf-tour
 nament/
SUMMARY:5th Annual Tom Gordon Memorial Golf Tournament
DESCRIPTION:5th Annual Tom Gordon Memorial Golf Tournament\nGET TICKETS OR 
 SPONSOR\nTom passed away on September 27th\, 2021\, at just 35 years old. 
 This tournament honors his passion for sports\, community\, and bringing p
 eople together.\n\nThe 5th Annual Tom Gordon Memorial Golf Tournament will
  take place on Sunday\, June 28th at 1:30 PM at Ontario Golf Club.\n\nFund
 s raised from sponsors will benefit Delphi Rise and Penfield Recreation.\n
 \nDelphi Rise is a community-based behavioral health organization providin
 g substance use support\, mental health services\, and essential resources
  to individuals and families across Monroe and Wayne Counties. Through pro
 grams like Monroe County’s only 24/7 Open Access Clinic\, outpatient ser
 vices\, school-based prevention education\, reentry support\, and a food a
 nd hygiene pantry\, Delphi Rise meets people where they are—offering car
 e\, stability\, and a path forward.\n\nPenfield Recreation provides wellne
 ss programming for the entire family. A portion of the proceeds will suppo
 rt youth sports programs that reflect Tom’s love of athletics and the po
 sitive impact sports can have on young people.\n\nTournament Sponsor Level
 s 
ATTACH;FMTTYPE=image/jpeg:https://delphirise.org/wp-content/uploads/2026/0
 4/Tournament-Flyer.png
LOCATION:Ontario Golf Club\, 2101 Country Club Ln\,\, Ontario\, New York\, 
 14519\, United States
X-APPLE-STRUCTURED-LOCATION;VALUE=URI;X-ADDRESS=2101 Country Club Ln\,\, On
 tario\, New York\, 14519\, United States;X-APPLE-RADIUS=100;X-TITLE=Ontari
 o Golf Club:geo:0,0
END:VEVENT
BEGIN:VTIMEZONE
TZID:America/New_York
X-LIC-LOCATION:America/New_York
BEGIN:DAYLIGHT
DTSTART:20260308T030000
TZOFFSETFROM:-0500
TZOFFSETTO:-0400
TZNAME:EDT
END:DAYLIGHT
END:VTIMEZONE
END:VCALENDAR